BEGIN:VCALENDAR
VERSION:2.0
PRODID:-//Tukios.com/
BEGIN:VEVENT
UID:a8bc799a-cd98-4d5b-94f7-bd412c9f96f1@www.ctcfuneralandcremation.com
DTSTAMP:20260420T194113Z
DTSTART:20260423T170000Z
DTEND:20260423T180000Z
SUMMARY:Funeral Service
DESCRIPTION:
URL:https://www.ctcfuneralandcremation.com/obituaries/lana-vogus
LOCATION:Cassaday-Turkle-Christian Funeral Home  75 South Union Avenue  
	Alliance OH 44601
GEO:40.9208548;-81.1064193
END:VEVENT
END:VCALENDAR