BEGIN:VCALENDAR
VERSION:2.0
PRODID:-//Tukios.com/
BEGIN:VEVENT
UID:1b5adb6b-1cfc-468c-8f9f-72bebb0886da@www.ctcfuneralandcremation.com
DTSTAMP:20260420T194237Z
DTSTART:20260423T150000Z
DTEND:20260423T170000Z
SUMMARY:Visitation
DESCRIPTION:
URL:https://www.ctcfuneralandcremation.com/obituaries/lana-vogus
LOCATION:Cassaday-Turkle-Christian Funeral Home  75 South Union Avenue  
	Alliance OH 44601
GEO:40.9208548;-81.1064193
END:VEVENT
END:VCALENDAR