BEGIN:VCALENDAR
VERSION:2.0
PRODID:-//Tukios.com/
BEGIN:VEVENT
UID:3c4337d9-c573-4ae0-a3e4-cec88c94e8f9@www.ctcfuneralandcremation.com
DTSTAMP:20260423T233027Z
DTSTART:20260428T190000Z
DTEND:20260428T200000Z
SUMMARY:Visitation
DESCRIPTION:
URL:https://www.ctcfuneralandcremation.com/obituaries/john-dickson-jr
LOCATION:Cassaday-Turkle-Christian Funeral Home  75 South Union Avenue  
	Alliance OH 44601
GEO:40.9208548;-81.1064193
END:VEVENT
END:VCALENDAR