BEGIN:VCALENDAR
VERSION:2.0
PRODID:-//Tukios.com/
BEGIN:VEVENT
UID:16046538-e342-4c7e-b27c-6efa7336128c@www.ctcfuneralandcremation.com
DTSTAMP:20260421T002232Z
DTSTART:20260425T170000Z
DTEND:20260425T190000Z
SUMMARY:Celebration of Life
DESCRIPTION:
URL:https://www.ctcfuneralandcremation.com/obituaries/harold-howell
LOCATION:Centerville Village 1082 Kensington Road Northeast  Carrollton 
	OH 44615
GEO:40.5936683;-81.0779783
END:VEVENT
END:VCALENDAR